BEGIN:VCALENDAR
PRODID:-//ic Event Manager/Calendar 2.0//EN
VERSION:2.0
CALSCALE:GREGORIAN
METHOD:PUBLISH
X-WR-CALNAME:Cuaderno de Cultura Científica
BEGIN:VEVENT
UID:56636
DTSTART:20260511T093000Z
DTEND:20260511T200000Z
DTSTAMP:20260422T111540Z
URL;VALUE=URI:https://culturacientifica.com/?p=56636
DESCRIPTION:Jornada Eclipse solar total. Observación\, exploración y cien
 cia
SUMMARY:Lectura accesible A+ A++ 🌙 5 min Jornada Eclipse solar total. Obs
 ervación\, exploración y ciencia El miércoles 12 de agosto de 2026 tendrá
  lugar un acontecimiento astronómico excepcional: el primer eclipse total
  solar visible en Euskadi desde hace más de un siglo. Será un eclipse ves
 pertino\, visible antes de la…
LOCATION:Bizkaia Aretoa-EHU — Abandoibarra\, 3 — Bilbao
ORGANIZER:Cuaderno de Cultura Científica
ATTACH:https://culturacientifica.com/app/uploads/2026/04/720KZK-Eklipsea-
 General-CAS_web-120x120.jpg
TRANSP:OPAQUE
END:VEVENT
END:VCALENDAR
